BEGIN:VCALENDAR
VERSION:2.0
PRODID:-//Frank Oppermann - ECPv4.8.2//NONSGML v1.0//EN
CALSCALE:GREGORIAN
METHOD:PUBLISH
X-WR-CALNAME:Frank Oppermann
X-ORIGINAL-URL:http://oppermann-frank.de
X-WR-CALDESC:Veranstaltungen im Frank Oppermann
BEGIN:VEVENT
DTSTART;TZID=Europe/Berlin:20191011T193000
DTEND;TZID=Europe/Berlin:20191011T223000
DTSTAMP:20260422T090100
CREATED:20190105T151509Z
LAST-MODIFIED:20190105T151509Z
UID:502-1570822200-1570833000@oppermann-frank.de
SUMMARY:Ein Herz und eine Seele - Silberhochzeit
DESCRIPTION:
URL:http://oppermann-frank.de/event/ein-herz-und-eine-seele-silberhochzeit-17
LOCATION:Oberhausen Kaisergarten\, Konrad-Adenauer-Allee 48\, Oberhausen\, 46049\, Deutschland
ORGANIZER;CN="Die%20Genussprojekte":MAILTO:info@genussprojekte.de
END:VEVENT
END:VCALENDAR